BEGIN:VCALENDAR
VERSION:2.0
PRODID:-//hacksw/handcal//NONSGML v1.0//EN
BEGIN:VEVENT
DTSTART:20240709T120000
DTEND:20240709T124500
LOCATION:
ORGANIZER;CN=Anne BOUET:MAILTO:anne.bouet74@gmail.com
SUMMARY:Masterclass exceptionnelle avec Sophie Quatrehomme, Directrice Communication Groupe Caisse des Dépôts - Mardi 9 juillet 12h
DESCRIPTION:La communication publique dans tous ses états ! \nLa directrice de la communication du Groupe Caisse des Dépôts, membre du comité exécutif, sera l’invitée de la prochaine masterclass organisée par les...
URL:https://www.celsa-alumni.com/fr/event/masterclass-exceptionnelle-avec-sophie-quatrehomme-directrice-communication-groupe-caisse-des-depots-mardi-9-juillet-12h/2024/07/09/168
BEGIN:VALARM
TRIGGER:-P0DT1H0M0S
ACTION:DISPLAY
END:VALARM
END:VEVENT
END:VCALENDAR